BEGIN:VCALENDAR
VERSION:2.0
PRODID:icalendar-ruby
CALSCALE:GREGORIAN
METHOD:PUBLISH
BEGIN:VEVENT
DTSTAMP:20260419T181726Z
UID:13-621931@includefaith.org
DTSTART:20261021T230000Z
DTEND:20261022T001000Z
CLASS:PUBLIC
CREATED:20260419T124453
DESCRIPTION:Meeting on Wednesdays at 7\, our Awana program is an exciting p
 rogram for young people 3 years old to 6th grade. Our Awana program includ
 es exciting games\, fun songs\, and encouraging bible lessons. In our awan
 a program we also have exciting events like our derby race and model boat 
 race.
LAST-MODIFIED:20260419T124453
LOCATION:4215 Indian Ripple Rd. Beavercreek\, OH 45440
SUMMARY:Awana
URL;VALUE=URI:https://includefaith.org/events/awana/2026-10-21
ATTACH;FILENAME=awana-1-logo-png-transparent-2.png;FMTTYPE=image/png:https:
 //dq5pwpg1q8ru0.cloudfront.net/2024/11/04/18/52/06/a1dda8e8-baba-47f8-8135
 -46c2dce4d83f/awana-1-logo-png-transparent-2.png
END:VEVENT
END:VCALENDAR
